BEGIN:VCALENDAR
VERSION:2.0
PRODID:-//Sabre//Sabre VObject 4.5.8//EN
CALSCALE:GREGORIAN
BEGIN:VEVENT
UID:sabre-vobject-8ab8e508-404e-43ed-b31f-5f2463d13174
DTSTAMP:20260420T103150Z
SUMMARY:Hoffest mit Weindegustation
DESCRIPTION:Es wird zur Degustation der Weissweine 2025 sowie der Rotweine 
 2024 eingeladen. Es werden hausgemachte Speisen angeboten.\nDer Besuch kan
 n mit einer Wanderung auf dem Weinfelder Weinweg verbunden werden. Der Bet
 rieb liegt unweit der Route.
LOCATION:Broger Weinbau\, Schnellberg 1\, 8561 Ottoberg
DTSTART;TZID=Europe/Zurich:20260501T110000
DTEND;TZID=Europe/Zurich:20260501T190000
ORGANIZER:Broger Weinbau
END:VEVENT
END:VCALENDAR
