BEGIN:VCALENDAR
VERSION:2.0
PRODID:-//Sabre//Sabre VObject 4.5.8//EN
CALSCALE:GREGORIAN
BEGIN:VEVENT
UID:sabre-vobject-9934c5e5-72bf-4ae7-aedb-42e2b521932b
DTSTAMP:20260420T102729Z
SUMMARY:Horst Flohmarkt
DESCRIPTION:
LOCATION:Horstklub\, Kirchstrasse 1\, 8280 Kreuzlingen
DTSTART;TZID=Europe/Zurich:20260426T130000
DTEND;TZID=Europe/Zurich:20260426T190000
ORGANIZER:Horstklub 
END:VEVENT
END:VCALENDAR
