BEGIN:VCALENDAR
VERSION:2.0
PRODID:-//Sabre//Sabre VObject 4.5.8//EN
CALSCALE:GREGORIAN
BEGIN:VEVENT
UID:sabre-vobject-64c12acb-ddef-415a-8999-438a8806f163
DTSTAMP:20260420T104433Z
SUMMARY:Astio + FiveBucks + Poo Poo Talks (3x IT)
DESCRIPTION:Postpunk / Egg Punk / Lofi
LOCATION:Horstklub\, Kirchstrasse 1\, 8280 Kreuzlingen
DTSTART;TZID=Europe/Zurich:20260509T200000
DTEND;TZID=Europe/Zurich:20260510T010100
ORGANIZER:Horstklub 
END:VEVENT
END:VCALENDAR
