BEGIN:VCALENDAR
VERSION:2.0
PRODID:-//Sabre//Sabre VObject 4.5.8//EN
CALSCALE:GREGORIAN
BEGIN:VEVENT
UID:sabre-vobject-69e1ecf5-ea62-4eed-9adb-7943f63cfd72
DTSTAMP:20260420T102948Z
SUMMARY:The Gee Strings (DE)
DESCRIPTION:DJ Soli on the turntables!\nThe Gee Strings\\nfrom Cologne\, co
 mbining raw\, high-energy punk with elements of garage rock and rock’n
 ’roll.
LOCATION:Horstklub\, Kirchstrasse 1\, 8280 Kreuzlingen
DTSTART;TZID=Europe/Zurich:20260514T200000
DTEND;TZID=Europe/Zurich:20260515T010000
ORGANIZER:Horstklub 
END:VEVENT
END:VCALENDAR
