BEGIN:VCALENDAR
VERSION:2.0
PRODID:-//Sabre//Sabre VObject 4.5.8//EN
CALSCALE:GREGORIAN
BEGIN:VEVENT
UID:sabre-vobject-288c7958-27f8-4a73-a975-f41a8a14b6b6
DTSTAMP:20260422T102737Z
SUMMARY:Da Cruz
DESCRIPTION:Da Cruz verbindet Baile Funk\, Afrobeat\, Dub und Hip-Hop zu ei
 ner tanzbaren\, politischen Klangwelt. Die Band um Sängerin Mariana Da Cr
 uz verarbeitet Themen wie Rassismus\, Ungleichheit und gesellschaftliche S
 pannungen in energiegeladenen Songs. International gefeiert\, steht Da Cru
 z für unabhängige Produktion\, globale Einflüsse und eine kraftvolle Mi
 schung aus Wut\, Hoffnung und Lebensfreude.
LOCATION:Konstanz Konzertmuschel\, Stadtgarten 1\, 78462 Konstanz
DTSTART;TZID=Europe/Zurich:20260524T210000
DTEND;TZID=Europe/Zurich:20260524T210000
ORGANIZER:Kulturladen Konstanz e. V.
END:VEVENT
END:VCALENDAR
