BEGIN:VCALENDAR
VERSION:2.0
PRODID:-//Sabre//Sabre VObject 4.5.8//EN
CALSCALE:GREGORIAN
BEGIN:VEVENT
UID:sabre-vobject-d81a4251-8983-4d75-969c-2d5df8312f55
DTSTAMP:20260421T103910Z
SUMMARY:Phänologie: Naturbeobachtung im Jahresverlauf
DESCRIPTION:Phänologie ist die wissenschaftliche Lehre der Naturbeobachtun
 g. Sie beschäftigt sich mit den jahreszeitlichen Entwicklungsstadien von 
 Pflanzen und Tieren und hat ihren Ursprung in der Landwirtschaft\, wo sie 
 zur Bestimmung optimaler Erntezeitpunkte genutzt wurde. Das Pflanzenwachst
 um wird dabei in klar definierte Stadien eingeteilt\, die sogenannten phä
 nologischen Jahreszeiten. Insgesamt gibt es zehn solcher Jahreszeiten\, di
 e mithilfe von Zeigerpflanzen anzeigen\, in welchem Entwicklungsstand sich
  die Natur gerade befindet.\\n\n\\n\nAuch Tiere folgen festen Jahresrhythm
 en\, die sich beobachten und einordnen lassen. Durch phänologische Beobac
 htungen wird sichtbar\, wie eng Pflanzen\, Tiere und Umwelt miteinander ve
 rbunden sind und wie sich natürliche Zyklen im Laufe des Jahres veränder
 n.\\n\n\\n\nRegelmäßige Exkursionen ermöglichen es\, diese Zusammenhän
 ge direkt in der Natur zu erleben. Dabei werden die aktuellen phänologisc
 hen Jahreszeiten gemeinsam beobachtet und interpretiert. Phänologie schä
 rft den Blick für Details\, fördert ein tieferes Verständnis natürlich
 er Prozesse und eröffnet neue Perspektiven auf die Dynamik der Natur.Die 
 Länge ist als ungefähre Zeit gedacht. Kann auch etwas kürzer oder läng
 er dauern.
LOCATION:Polygon Allmend Fraunfeld\, Polygonstrasse\, 8500 Frauenfeld
DTSTART;TZID=Europe/Zurich:20261027T150000
DTEND;TZID=Europe/Zurich:20261027T173000
ORGANIZER:Ranger Senn GmbH
END:VEVENT
END:VCALENDAR
