BEGIN:VCALENDAR
VERSION:2.0
PRODID:-//Sabre//Sabre VObject 4.5.8//EN
CALSCALE:GREGORIAN
BEGIN:VEVENT
UID:sabre-vobject-6a8b8c29-4322-4d9c-997a-b3be892d86e6
DTSTAMP:20260421T144652Z
SUMMARY:Die kleine Meerjungfrau
DESCRIPTION:Mit viel Herz\, Talent und Freude erwecken die jungen Tänzerin
 nen und Tänzer die berührende Geschichte der kleinen Meerjungfrau zum Le
 ben.\\n\\nDie Inszenierung bringt ein zeitloses Märchen auf die Bühne\, 
 das von Sehnsucht\, Mut und der Kraft der Liebe erzählt. Facettenreicher 
 Tanz\, stimmungsvolle Musik und fantasievolle Bilder lassen eine Welt ents
 tehen\, die Gross und Klein verzaubert.
LOCATION:Theater Winterthur\, Theaterstrasse 6\, 8401 Winterthur
DTSTART;TZID=Europe/Zurich:20260606T193000
DTEND;TZID=Europe/Zurich:20260606T193000
ORGANIZER:Theater Winterthur
END:VEVENT
END:VCALENDAR
