BEGIN:VCALENDAR
VERSION:2.0
PRODID:-//Sabre//Sabre VObject 4.5.8//EN
CALSCALE:GREGORIAN
BEGIN:VEVENT
UID:sabre-vobject-87ff741c-c6a3-4513-862a-4f38f3161c49
DTSTAMP:20260421T122453Z
SUMMARY:missa solluna - open heart space
DESCRIPTION:Die „Resonanzen des Lebens“-Wochenenden bieten einen gesch
 ützten Rahmen\, um über Klang\, Körperwahrnehmung und kreativen Ausdruc
 k in Kontakt mit sich selbst zu kommen. Der erste Teil\, die "Klanglandsch
 aften des Körpers" (findet am Samstag vor diesem Sonntag statt - siehe en
 tspr. Annonce)\, widmet sich jeweils einem bestimmten Organ oder Körperbe
 reich. Durch Klänge\, Rhythmen und feine Vibrationen entsteht ein Raum\, 
 in dem die Teilnehmenden die Resonanz und innere Dynamik dieses Bereichs e
 rforschen und ihre Wahrnehmung vertiefen können.\\n\\nOpen Heart Space - 
 offener Herzraum\\n---------------------------------------\\nIm zweiten Ta
 g des Wochenendes öffnet sich mit dem Open Heart Space ein achtsamer Raum
  für persönlichen Ausdruck und Begegnung.\\n\\nEs ist ein Raum\, in dem 
 die Teilnehmenden entscheiden können\, wie viel sie zeigen möchten. Sie 
 können still bleiben und einfach beobachten. Oder sie können sich einbri
 ngen – mit einem Wort\, einem Ton\, einem Schritt\, vielleicht auch eine
 m Lied\, oder sie wollen tanzen... Es geht nicht um Performance. Es geht u
 m Echtheit. Um kleine\, ehrliche Momente.\\n\\nDie beiden Teile (Samstag u
 nd Sonntag) bauen inhaltlich aufeinander auf und ergänzen sich\, können 
 jedoch auch unabhängig voneinander besucht werden. Das Angebot richtet si
 ch an Menschen\, die sich selbst näherkommen möchten\, neue Ausdrucksfor
 men entdecken wollen oder eine Auszeit in einem wertschätzenden Umfeld su
 chen. \\n\\nVorkenntnisse sind nicht erforderlich.
LOCATION:Seminarhaus am Hofplatz\, Hofplatz 7\, 9220 Bischofszell
DTSTART;TZID=Europe/Zurich:20261206T110000
DTEND;TZID=Europe/Zurich:20261206T140000
ORGANIZER:enn-institut
END:VEVENT
END:VCALENDAR
