BEGIN:VCALENDAR
VERSION:2.0
PRODID:-//Sabre//Sabre VObject 4.5.8//EN
CALSCALE:GREGORIAN
BEGIN:VEVENT
UID:sabre-vobject-ef1598fa-5568-4d74-a5b9-6758d503bfef
DTSTAMP:20260421T122350Z
SUMMARY:Graffiti-Workshop Frauenfeld
DESCRIPTION:Schon immer einmal selbst zur Sprühdose greifen wollen? In Fra
 uenfeld wird gezeigt\, wie es geht. Das Besondere daran: Die Guides sind e
 rfahrene Künstlerinnen und Künstler\, die selbst Werke für das Street A
 rt Festival Frauenfeld gestaltet haben.\nNach einer kurzen Einführung in 
 die Handhabung der Dosen und die verschiedenen Techniken wird direkt losge
 legt und gemeinsam ein Graffiti kreiert. Hier stehen das Selbermachen und 
 der Spass an der Farbe im Mittelpunkt.\nWährend am eigenen Style gefeilt 
 wird\, stehen die Profis stets beratend zur Seite. Ob Fragen zum Festival 
 oder zur Initiative in Frauenfeld « hier gibt es exklusive Insider-Einbli
 cke. Ein Workshop für alle\, die Lust auf Street Art und echte Profi-Tipp
 s haben.\\n\\nBitte Kleidung und Schuhe anziehen die farbig werden können
 . Der Workshop findet draussen in Frauenfeld statt (bei starkem Regen fäl
 lt der Kurs aus). Es wird eine Woche vor Durchführung per Mail informiert
 \, sollte die Durchführung aufgrund des Wetters nicht stattfinden können
 .\\n\\nAlle Materialien inklusive.\nDie Guides:\\nwww.Easy1.ch\\nwww.elfku
 nst.com\\nwww.taina.ch
LOCATION:Hallen-\, Frei- und Sprudelbad\, Schlossmühlestrasse 26\, 8500 Fr
 auenfeld
DTSTART;TZID=Europe/Zurich:20260530T140000
DTEND;TZID=Europe/Zurich:20260530T153000
ORGANIZER:Thurgau Tourismus (Fremdveranstaltung)
END:VEVENT
END:VCALENDAR
