BEGIN:VCALENDAR
VERSION:2.0
PRODID:-//Sabre//Sabre VObject 4.5.8//EN
CALSCALE:GREGORIAN
BEGIN:VEVENT
UID:sabre-vobject-f399dc7e-2b4b-4505-9dac-72c5ce1f573c
DTSTAMP:20260421T103036Z
SUMMARY:reparaTHURbude
DESCRIPTION:Der Zweck des Vereins ist es\, einerseits eine Werkstatt zu bet
 reiben\, wo Alltagsgegenstände repariert werden können und andererseits 
 die Organisation und Durchführung eines Reparatur-Dienstes sicher zu stel
 len. Die Reparaturen werden gegen Kostenbeteiligung durchgeführt. \\nDadu
 rch soll der Wegwerfmentalität in der Gesellschaft entgegengewirkt und di
 e Kultur des Reparierens gefördert werden.
LOCATION:Sangenstrasse 40\, 8570 Weinfelden
DTSTART;TZID=Europe/Zurich:20260912T090000
DTEND;TZID=Europe/Zurich:20260912T120000
ORGANIZER:Franz Portmann
END:VEVENT
END:VCALENDAR
