BEGIN:VCALENDAR
VERSION:2.0
PRODID:-//Sabre//Sabre VObject 4.5.8//EN
CALSCALE:GREGORIAN
BEGIN:VEVENT
UID:sabre-vobject-a3e94b40-24c3-4f1c-990a-9fb2e6930501
DTSTAMP:20260421T102401Z
SUMMARY:Allegro Pastell
DESCRIPTION:von Anna Roller\nDeutschland 2026\, 99 Min\, D\, ab etwa 14\nIm
  Jahrhundertsommer 2018 führen die Romanautorin Tanja Arnheim und der Web
 designer Jerome Daimler eine scheinbar ideale Fernbeziehung in der Hitze B
 erlins\, der Idylle eines geerbten Bungalows im hessischen Maintal und vie
 len Zugfahrten dazwischen. Doch das sorgfältig gepflegte Gleichgewicht au
 s Vertrauen und Ungebundenheit der beiden hyperreflektierten Millennials g
 erät ins Wanken\, als Tanja in der Nacht ihres Geburtstags bemerkt\, dass
  die Beziehung existentiell werden könnte. 
LOCATION:Cinema Luna\, Lindenstrasse 10\, 8500 Frauenfeld
DTSTART;TZID=Europe/Zurich:20260417T200000
DTEND;TZID=Europe/Zurich:20260417T200000
ORGANIZER:Cinema Luna
END:VEVENT
END:VCALENDAR
