BEGIN:VCALENDAR
VERSION:2.0
PRODID:-//Sabre//Sabre VObject 4.5.8//EN
CALSCALE:GREGORIAN
BEGIN:VEVENT
UID:sabre-vobject-30ce0a2a-0edf-4a93-b9f0-82a4a2b10dab
DTSTAMP:20260419T221137Z
SUMMARY:80's Just & Only
DESCRIPTION:Ab 21:00 Uhr wird das Jahrzehnt der Synthesizer\, Disco-Beats u
 nd legendären Pop- und Rock-Hymnen gefeiert\, die bis heute Herzen und Da
 ncefloors erobern.\\n\\nDJ Marc – 80’s Classics\, Pop-Flashbacks und p
 ure Tanzstimmung\\nDJ Tom-Gee – Disco-Grooves\, elektronischer 80’s So
 und und kultige Partyhits\\nNintendo Retro-Station mit echtem Oldschool-Fe
 eling\\nGame Station für nostalgische 80’s Vibes\\nKnicklichter à Disk
 retion für maximalen Glow\\nDeko komplett im typischen 80’s Look\\nVon 
 A-ha\, Madonna und Michael Jackson über Whitney Houston\, Depeche Mode un
 d Duran Duran bis zu den grossen Synth-Pop und Disco-Momenten – dieser A
 bend zelebriert die 80’s in ihrer schönsten Form. \\n\\nJubiläum-Spec
 ial: The VIP-Ticket\\nDas VIP-Ticket gibt Zutritt zum exklusiven VIP-Berei
 ch. Dort besteht die Möglichkeit\, sich zu entspannen und die Veranstaltu
 ng zu erleben\, mit Zugang zur Bar mit Bier\, Wein\, Prosecco und Softgetr
 änken während der Nacht (exkl. Spirituosen). Der Zugang erfolgt über ei
 n entsprechendes Ticket. Tickets sind auch über Eventfrog erhältlich.\\n
 \\nGut gestärkt in die Partynacht \\nDer Abend kann mit einem Dinner im F
 irehouse Restaurant begonnen werden\, anschliessend werden Drinks serviert
 \, bevor der Übergang zur Party erfolgt. Gäste\, die zuvor im Firehouse 
 essen\, erhalten Zugang zum Clubbing-Event ohne zusätzliches Ticket. Wäh
 rend der Party bleibt ein separater Gastraum geöffnet. Die Küche bietet 
 bis 02.00 Uhr Mitternachtssnacks an.\nGood to know\\nMit dem Thur-Taxi fü
 r nur 13 Franken vom Bahnhof-Firehouse / Firehouse-Bahnhof.
LOCATION:Firehouse\, Amriswilerstrasse 57\, 8570 Weinfelden
DTSTART;TZID=Europe/Zurich:20260502T210000
DTEND;TZID=Europe/Zurich:20260502T210000
ORGANIZER:2B Events
END:VEVENT
END:VCALENDAR
