BEGIN:VCALENDAR
VERSION:2.0
PRODID:-//Sabre//Sabre VObject 4.5.8//EN
CALSCALE:GREGORIAN
BEGIN:VEVENT
UID:sabre-vobject-60048bc2-47e5-4dbc-b334-f932e0b38d4b
DTSTAMP:20260421T103035Z
SUMMARY:Caffè Italiano
DESCRIPTION:Die Sprachencafés sind lockere Runden\, um die jeweilige Sprac
 he zu sprechen oder zu hören. Es wird kein Niveau vorausgesetzt und es is
 t keine Anmeldung notwendig.\nDauer: 1.5 – 2 Stunden
LOCATION:Kantonsbibliothek Thurgau\, Promenadenstrasse 12\, 8500 Frauenfeld
DTSTART;TZID=Europe/Zurich:20260819T193000
DTEND;TZID=Europe/Zurich:20260819T210000
ORGANIZER:Verein Bibliothek der Kulturen
END:VEVENT
END:VCALENDAR
