BEGIN:VCALENDAR
VERSION:2.0
PRODID:-//Sabre//Sabre VObject 4.5.8//EN
CALSCALE:GREGORIAN
BEGIN:VEVENT
UID:sabre-vobject-b7e1b1ec-1159-4a97-9971-5b57cd87117a
DTSTAMP:20260421T123539Z
SUMMARY:СЕРБИКА КАФЕ
DESCRIPTION:Die Sprachencafés sind lockere Runden\, um die jeweilige Sprac
 he zu sprechen oder zu hören. Es wird kein Niveau vorausgesetzt und es is
 t keine Anmeldung notwendig.\nDauer: 1.5 – 2 Stunden
LOCATION:Kantonsbibliothek Thurgau\, Promenadenstrasse 12\, 8500 Frauenfeld
DTSTART;TZID=Europe/Zurich:20260612T193000
DTEND;TZID=Europe/Zurich:20260612T213000
ORGANIZER:Verein Bibliothek der Kulturen
END:VEVENT
END:VCALENDAR
