BEGIN:VCALENDAR
VERSION:2.0
PRODID:-//Sabre//Sabre VObject 4.5.8//EN
CALSCALE:GREGORIAN
BEGIN:VEVENT
UID:sabre-vobject-d10addce-8d35-4de4-8d96-45790b65965c
DTSTAMP:20260419T145400Z
SUMMARY:Kafe Llafe Shqiptare
DESCRIPTION:Die Sprachencafés sind lockere Runden\, um die jeweilige Sprac
 he zu sprechen oder zu hören. Es wird kein Niveau vorausgesetzt und es is
 t keine Anmeldung notwendig.\nDauer: 1.5 – 2 Stunden
LOCATION:Kantonsbibliothek Thurgau\, Promenadenstrasse 12\, 8500 Frauenfeld
DTSTART;TZID=Europe/Zurich:20260521T193000
DTEND;TZID=Europe/Zurich:20260521T210000
ORGANIZER:Verein Bibliothek der Kulturen
END:VEVENT
END:VCALENDAR
