BEGIN:VCALENDAR
VERSION:2.0
PRODID:-//Sabre//Sabre VObject 4.5.8//EN
CALSCALE:GREGORIAN
BEGIN:VEVENT
UID:sabre-vobject-8dad7ef1-93b3-44d6-82d5-c781fc12c9e6
DTSTAMP:20260421T105230Z
SUMMARY:Abba Gold - The Concert Show
DESCRIPTION:Die international erfolgreiche Tribute-Liveshow widmet sich den
  grossen Gefühlen\, die ABBA-Songs seit Jahrzehnten auslösen: Liebe\, Se
 hnsucht\, Freude\, Hoffnung\, Herzschmerz und Erinnerung – zeitlose Emot
 ionen\, die Generationen verbinden.\\n\\n\nTüröffnung: 18.30 Uhr
LOCATION:Pentorama Amriswil\, Arbonerstrasse 4\, 8580 Amriswil
DTSTART;TZID=Europe/Zurich:20270123T193000
DTEND;TZID=Europe/Zurich:20270123T215000
ORGANIZER:domino Event SARL
END:VEVENT
END:VCALENDAR
