BEGIN:VCALENDAR
VERSION:2.0
PRODID:-//Sabre//Sabre VObject 4.5.8//EN
CALSCALE:GREGORIAN
BEGIN:VEVENT
UID:sabre-vobject-1e806976-2ea4-4a34-ab83-945b74851791
DTSTAMP:20260421T122352Z
SUMMARY:Von der Erde zum Universum
DESCRIPTION:Hier erleben Besucher:innen die zahlreichen Wunder des Universu
 ms. Hier fliegt man zu den farbenprächtigen Geburts- und Grabstätten der
  Sterne und noch weiter\, jenseits der Grenzen der Milchstrasse\, hinaus z
 u den unvorstellbaren Weiten von Myriaden Galaxien. Auf dem Weg lernen die
  ZuschauerInnen viel Neues kennen: über die Geschichte der Astronomie\, d
 ie Erfindung des Teleskops und die heutigen Riesenteleskope\, mit deren Hi
 lfe das Universum immer weiter erforscht wird.\\n\\nDie Show wurde von der
  Europäischen Südsternwarte ESO zur Verfügung gestellt\, wobei die meis
 ten der eindrucksvollen Bilder an den Teleskopen der Sternwarte in Chile e
 ntstanden.\\n\\nAb 10 Jahren.\\n\\nAlle Planetariums-Shows sind eindrucksv
 olle\, multi-mediale Erlebnisse auf einer 360° Fulldome-Leinwand und werd
 en durch die kompetenten Mitglieder der Astronomischen Vereinigung Kreuzli
 ngen AVK durchgeführt. Jede Show schliesst mit einem live moderierten Bli
 ck in den aktuellen Sternenhimmel - dank Projektion und Kuppel-Leinwand be
 i jeder Witterung möglich.\nTüröffnung 30 Minuten vor Showbeginn
LOCATION:Bodensee Planetarium und Sternwarte\, Breitenrainstrasse 21\, 8280
  Kreuzlingen
DTSTART;TZID=Europe/Zurich:20260624T170000
DTEND;TZID=Europe/Zurich:20260624T170000
ORGANIZER:Bodensee Planetarium & Sternwarte
END:VEVENT
END:VCALENDAR
