BEGIN:VCALENDAR
VERSION:2.0
PRODID:-//Sabre//Sabre VObject 4.5.8//EN
CALSCALE:GREGORIAN
BEGIN:VEVENT
UID:sabre-vobject-a4b2915d-6b43-45f8-b821-62cab4d498d5
DTSTAMP:20260419T221253Z
SUMMARY:KAFF Karaoke
DESCRIPTION:
LOCATION:KAFF Kulturlokal\, Zeughausstrasse 13\, 8500 Frauenfeld
DTSTART;TZID=Europe/Zurich:20260425T200000
DTEND;TZID=Europe/Zurich:20260425T200000
ORGANIZER:Kulturlokal KAFF - Kulturarbeit für Frauenfeld
END:VEVENT
END:VCALENDAR
