BEGIN:VCALENDAR
VERSION:2.0
PRODID:-//Sabre//Sabre VObject 4.5.8//EN
CALSCALE:GREGORIAN
BEGIN:VEVENT
UID:sabre-vobject-d0797204-276f-4e84-8186-a9154265e1b1
DTSTAMP:20260419T145508Z
SUMMARY:Schlakks (DE)
DESCRIPTION:In seinen Texten spricht der MC sehr persönlich und offen übe
 r das Leben\, die eigene Gefühlswelt und kommentiert zugleich gesellschaf
 tliche sowie soziale Fragen unserer Zeit. Gekonnt verbindet Schlakks ernst
 e\, teils komplexe Inhalte mit der Freude zur Musik. Zwar findet seine Kun
 st hauptsächlich im Deutschrap-Underground und in der alternativen Kultur
 landschaft statt\, doch von einem Unbekannten kann keineswegs die Rede sei
 n: Seit mehr als zehn Jahren bereichert er nun schon die deutschsprachige 
 Szene mit seinen (selbst-)reflektierten und progressiven Reimen.\nMit der 
 Zeit hat Schlakks in dieser Hinsicht seinen ganz eigenen Sound kreiert. Di
 eser lässt sich irgendwo zwischen Oldschool\, Funk\, Clubkulisse und dem 
 gewissen Etwas für Liebhaber:innen von guten deutschsprachigen Texten ein
 ordnen – immer dabei eine gehörige Portion Spass an der Sache und Liebe
  zur Subkultur. Doch Spass ist eben auch nicht alles und so geht Schlakks
 ’ Musik inhaltlich immer wieder an die (gesellschaftskritische) Substanz
 \, auf der Suche nach den passenden Worten\, um die Komplexität dieser We
 lt zu erfassen.
LOCATION:KAFF Kulturlokal\, Zeughausstrasse 13\, 8500 Frauenfeld
DTSTART;TZID=Europe/Zurich:20260516T210000
DTEND;TZID=Europe/Zurich:20260516T210000
ORGANIZER:Kulturlokal KAFF - Kulturarbeit für Frauenfeld
END:VEVENT
END:VCALENDAR
