BEGIN:VCALENDAR
VERSION:2.0
PRODID:-//Sabre//Sabre VObject 4.5.8//EN
CALSCALE:GREGORIAN
BEGIN:VEVENT
UID:sabre-vobject-417b4b81-94a9-4142-9198-1f1430a60068
DTSTAMP:20260421T091223Z
SUMMARY:Die Grenze: Das Agglomerationsprogramm Kreuzlingen-Konstanz
DESCRIPTION:Das Architekturforum KonstanzKreuzlingen stellt im Jahr 2026 da
 s Thema Raumplanung ins Zentrum seiner Veranstaltungen. Ein besonderes Aug
 enmerk gilt dabei dem Agglomerationsprogramm Kreuzlingen–Konstanz\, eine
 m der wenigen grenzüberschreitenden Programme dieser Art in der Schweiz! 
 Es koordiniert Siedlungsentwicklung\, Verkehr und Umwelt und bildet eine w
 ichtige Grundlage für die nachhaltige Entwicklung der Region. In der aktu
 ellen 5. Generation wurden auf Basis eines gemeinsamen Zukunftsbildes neue
  Strategien und Massnahmen entwickelt. \nIm Fokus des Abends steht insbes
 ondere die Planung entlang der Grenze zwischen Kreuzlingen und Konstanz. W
 ir möchten diese Schnittstelle genauer unter die Lupe nehmen – mit eine
 m besonderen Blick auf Mobilität und Siedlungsentwicklung. \nGemeinsam m
 it den Verfassern des aktuellen Agglomerationsprogramms sowie Vertreterinn
 en und Vertretern der städtischen Bauämter von Konstanz und Kreuzlingen 
 diskutieren wir Chancen\, Herausforderungen und Perspektiven der grenzübe
 rschreitenden Zusammenarbeit. Ein spannender Abend zur Zukunft unserer gem
 einsamen Region. \n \nReferenten: Roman Hanimann (Stadt- und Raumplaner\
 , Atelier CORSO GmbH\, Zürich)\, Simon Seger (Verkehrsplaner\, mrs partne
 r ag\, Zürich) \nWeitere Podiumsgäste: Sandro Nöthiger (Leiter Tiefbau
  Kreuzlingen)\, Stephan Fischer (Leiter Abteilung Mobilität Konstanz)\nMo
 deration: Architekturforum KonstanzKreuzlingen\nBild: «Zukunftsbild 2040
 »\, Van de Wetering Atelier für Städtebau GmbH | mrs partner AG
LOCATION:Museum Rosenegg\, Bärenstrasse 6\, 8280 Kreuzlingen
DTSTART;TZID=Europe/Zurich:20260504T190000
DTEND;TZID=Europe/Zurich:20260504T190000
ORGANIZER:Museum Rosenegg
END:VEVENT
END:VCALENDAR
