BEGIN:VCALENDAR
VERSION:2.0
PRODID:-//Sabre//Sabre VObject 4.5.8//EN
CALSCALE:GREGORIAN
BEGIN:VEVENT
UID:sabre-vobject-64afcce6-7eb5-49bf-bfae-5845132eadbd
DTSTAMP:20260424T143023Z
SUMMARY:Gianni Schicchi
DESCRIPTION:Puccini nutzt seine einzige komische Oper\, um das Bild einer s
 chamlosen und habgierigen Erbengemeinschaft zu zeichnen\, in der jeder nur
  auf den eigenen Vorteil aus ist. So auch der gewitzte Drahtzieher Gianni 
 Schicchi ...\\n\n\\n\nPuccinis Einakter «Gianni Schicchi» endet nicht mi
 t einem tragischen Operntod: Der Leichnam von Buoso Donati ist bereits auf
 gebahrt\, wenn sich der Vorhang hebt. Um ihn schart sich die laut klagende
  Verwandtschaft. Doch die Trauer entlarvt sich schnell als Scheinheiligkei
 t\, und bald wird gierig nach dem Testament des reichen Alten gesucht. Als
  es schliesslich gefunden ist\, warten aber gleich mehrere Überraschungen
  auf die zankenden Erben.\\n\n\\n\nDas quirlige Ensemblestück ist wie ges
 chaffen für die Mitglieder des Internationalen Opernstudios des Opernhaus
  Zürich. In ihrer Inszenierung erzählt die junge Regisseurin Lilli Fisch
 er nicht nur die Geschichte des Erbschleichers Gianni Schicchi: In einem k
 urzen Vorspiel mit Musik von Puccini\, Verdi\, Johann Strauss und anderen 
 zeigt sie auch den letzten Ball\, zu dem der reiche\, genusssüchtige Buos
 o Donati kurz vor seinem Tod einlädt.\\n\n\\n\nFür alle ab 14 Jahren.
LOCATION:Theater Winterthur\, Theaterstrasse 6\, 8401 Winterthur
DTSTART;TZID=Europe/Zurich:20260502T190000
DTEND;TZID=Europe/Zurich:20260502T210000
ORGANIZER:Theater Winterthur
END:VEVENT
END:VCALENDAR
