BEGIN:VCALENDAR
VERSION:2.0
PRODID:-//Sabre//Sabre VObject 4.5.8//EN
CALSCALE:GREGORIAN
BEGIN:VEVENT
UID:sabre-vobject-f223b6be-2940-40dc-9cb4-18b23acde5a8
DTSTAMP:20260421T144652Z
SUMMARY:Deathrope live in der Bruderbar
DESCRIPTION:
LOCATION:Stadtkaserne Frauenfeld\, Bahnhofplatz 78\, 8500 Frauenfeld
DTSTART;TZID=Europe/Zurich:20260424T203000
DTEND;TZID=Europe/Zurich:20260424T235500
ORGANIZER:Brudersounds in der Kaserne
END:VEVENT
END:VCALENDAR
