BEGIN:VCALENDAR
VERSION:2.0
PRODID:-//Sabre//Sabre VObject 4.5.8//EN
CALSCALE:GREGORIAN
BEGIN:VEVENT
UID:sabre-vobject-5e34f73e-53db-469d-a70e-4c49b9e565cc
DTSTAMP:20260421T123530Z
SUMMARY:Archäologie aus der Region: sichtbar und greifbar
DESCRIPTION:Voll beladen mit archäologischen Originalfunden aus der Region
  und Anschauungsmaterial rund um die archäologische Forschung fährt das 
 Archäomobil Ostschweiz auf den Parkplatz der Insel Werd. Von der Schaufel
  bis zum Vermessungsgerät findet alles im Bus Platz\, was Archäologinnen
  und Archäologen bei ihrer täglichen Arbeit brauchen.\nOriginalfunde geb
 en einen Einblick in die reiche Kulturgeschichte des Thurgaus von der Stei
 nzeit bis zum Frühmittelalter. Die Besuchenden entdecken echte archäolog
 ische Funde aus der Region und erfahren\, wie Archäologie funktioniert un
 d welche Fundstellen von Gefahren bedroht sind. Dabei erforschen sie\, was
  uns archäologische Funde über die Vergangenheit vor der Haustüre erzä
 hlen.\nRollstuhlgängig\, für Kinder geeignet.\nArchäomobil ist auf dem 
 Parkplatz der Insel Werd stationiert.
LOCATION:Eschenz\, 8264 Eschenz
DTSTART;TZID=Europe/Zurich:20260912T140000
DTEND;TZID=Europe/Zurich:20260912T160000
ORGANIZER:Museum für Archäologie Thurgau
END:VEVENT
END:VCALENDAR
