BEGIN:VCALENDAR
VERSION:2.0
PRODID:-//Sabre//Sabre VObject 4.5.8//EN
CALSCALE:GREGORIAN
BEGIN:VEVENT
UID:sabre-vobject-6fa2a2af-167a-4852-8de2-809151b5bd9c
DTSTAMP:20260424T120333Z
SUMMARY:Ü40 Tanzparty
DESCRIPTION:Ob mit Freunden in der reservierten Lounge\, als Paar für eine
 n feinen Cocktail an der Bar oder als Single auf der Tanzfläche\, alle si
 nd willkommen. Getanzt wird zu Musik aus den 70er über die 80er &amp\; 90
 er bis hin zu den aktuellen Charts\, serviert von den angesagtesten Ü40 D
 J's des Landes.\\n\\nDrei kleine Anliegen:\\nein gepflegtes Erscheinungsbi
 ld\\nein anständiger Umgang\\nund ein angemessener Umgangston
LOCATION:Schlosshof Club Münchwilen\, Murgtalstrasse 20\, 9542 Münchwilen
  TG
DTSTART;TZID=Europe/Zurich:20260502T203000
DTEND;TZID=Europe/Zurich:20260503T020000
ORGANIZER:Tanzparty40.ch
END:VEVENT
END:VCALENDAR
