BEGIN:VCALENDAR
VERSION:2.0
PRODID:-//Sabre//Sabre VObject 4.5.8//EN
CALSCALE:GREGORIAN
BEGIN:VEVENT
UID:sabre-vobject-5c24999a-eebc-49ca-842c-6e4d9cfa6660
DTSTAMP:20260421T123813Z
SUMMARY:Sonnenbeobachtung in der Sternwarte
DESCRIPTION:Die Sternwarte öffnet ihre Türen der Öffentlichkeit.\\n\\nBe
 i trockener Witterung und klarer Sicht beobachten die Teilnehmenden gemein
 sam die Sonne und der von ihr verursachten Phänomene – vor allem Sonnen
 flecken und Sonnenfackeln.\\n\\nBei grossem Besucher:innenaufkommen kann e
 s zu Wartezeiten kommen. \\n\\n
LOCATION:Bodensee Planetarium und Sternwarte\, Breitenrainstrasse 21\, 8280
  Kreuzlingen
DTSTART;TZID=Europe/Zurich:20260816T140000
DTEND;TZID=Europe/Zurich:20260816T170000
ORGANIZER:Bodensee Planetarium & Sternwarte
END:VEVENT
END:VCALENDAR
