BEGIN:VCALENDAR
VERSION:2.0
PRODID:-//Sabre//Sabre VObject 4.5.8//EN
CALSCALE:GREGORIAN
BEGIN:VEVENT
UID:sabre-vobject-87c1d321-5696-448c-8c75-95cbb2a8746a
DTSTAMP:20260421T091224Z
SUMMARY:Ferne Welten - Fremdes Leben
DESCRIPTION:Wohl keine andere Frage beschäftigt die Menschheit so stark wi
 e jene nach der Existenz ausserirdischer Lebewesen. In dieser Show\, einem
  gemeinsamen Werk von sechs deutschsprachigen Planetarien\, macht man sich
  auf die Suche nach Antworten.\\n\\nBesucher:innen landen mit einer Raumso
 nde auf dem Mars\, auf dem in ferner Vergangenheit womöglich einmal Leben
  entstand. Erforscht den Jupitermond Europa\, unter dessen dickem Eispanze
 r sich ein gewaltiger Ozean verbirgt. Hier staunt man über fantastische P
 laneten\, die andere Sterne umkreisen könnten. Ab 12 Jahren.\\n\\nAlle Pl
 anetariums-Shows sind eindrucksvolle\, multi-mediale Erlebnisse auf einer 
 360° Fulldome-Leinwand und werden durch die kompetenten Mitglieder der As
 tronomischen Vereinigung Kreuzlingen AVK durchgeführt. Jede Show schliess
 t mit einem live moderierten Blick in den aktuellen Sternenhimmel - dank P
 rojektion und Kuppel-Leinwand bei jeder Witterung möglich.\nTüröffnung 
 30 Minuten vor Showbeginn
LOCATION:Bodensee Planetarium und Sternwarte\, Breitenrainstrasse 21\, 8280
  Kreuzlingen
DTSTART;TZID=Europe/Zurich:20260516T170000
DTEND;TZID=Europe/Zurich:20260516T170000
ORGANIZER:Bodensee Planetarium & Sternwarte
END:VEVENT
END:VCALENDAR
