BEGIN:VCALENDAR
VERSION:2.0
PRODID:-//Sabre//Sabre VObject 4.5.8//EN
CALSCALE:GREGORIAN
BEGIN:VEVENT
UID:sabre-vobject-9891876a-2b1f-4de1-a3c9-7b7d20a356a4
DTSTAMP:20260421T103954Z
SUMMARY:Von der Hub ins Oberdorf
DESCRIPTION:Die Geschichte Weinfeldens beginnt früh. Aber das eigentliche 
 Dorf hat seinen Ursprung als ständige Siedlung wohl an zwei Orten: Im Geb
 iet des Eigenhofs und auf der Hub. Hier war man dank der leicht erhöhten 
 Lage sicher vor Hochwasser und trotzdem nahe am fruchtbaren Allmendland de
 r Ebene. Auch begünstigten diese Standorte das Zusammenleben der Menschen
  und die Entwicklung von Handel und Gewerbe.\\n\\nAuf einem Spaziergang er
 kunden die Teilnehmenden das östliche der beiden alten Siedlungsgebiete u
 nd hören Geschichten über die Geschichte von Liegenschaften und Menschen
 . Unscheinbar zwischen dem Felsenkeller und dem Steinhaus beginnt die Hubg
 asse. Auf dem Weg ins Oberdorf betrachten die Teilnehmenden verschiedene G
 ebäude. Sie nehmen dabei unterschiedliche Perspektiven ein und hören Ane
 kdoten\, die sich am Rande des Dorfkerns zugetragen haben. 
LOCATION:Rathausplatz\, 8570 Weinfelden
DTSTART;TZID=Europe/Zurich:20260813T183000
DTEND;TZID=Europe/Zurich:20260813T183000
ORGANIZER:Stadt Weinfelden
END:VEVENT
END:VCALENDAR
