BEGIN:VCALENDAR
VERSION:2.0
PRODID:-//Sabre//Sabre VObject 4.5.8//EN
CALSCALE:GREGORIAN
BEGIN:VEVENT
UID:sabre-vobject-3b4461b4-42ad-4da7-9035-dcf3f831d531
DTSTAMP:20260421T105230Z
SUMMARY:Auf den grünen Dächern von Kreuzlingen
DESCRIPTION:In den letzten Jahren sind verschiedene Flachdächer naturnah b
 egrünt worden. Mit überraschend einfachen Methoden wurden auf den Däche
 rn Lebensräume geschaffen\, die ihresgleichen suchen: Seltene Orchideen o
 der eine grosse Insektenvielfalt erscheinen schon nach wenigen Jahren mitt
 en in der Stadt.\nAn der Exkursion können verschiedene dieser sehr spanne
 nden Lebensräume auf dem Dach besichtigt werden. Die Verschiebung zwische
 n den einzelnen Gebäuden erfolgt individuell\, am besten per Velo.\\n\\nV
 elo mitnehmen
LOCATION:Hallenbad Egelsee\, Hauptstrasse 88a\, 8280 Kreuzlingen
DTSTART;TZID=Europe/Zurich:20260605T190000
DTEND;TZID=Europe/Zurich:20260605T210000
ORGANIZER:Bauverwaltung
END:VEVENT
END:VCALENDAR
