BEGIN:VCALENDAR
VERSION:2.0
PRODID:-//Sabre//Sabre VObject 4.5.8//EN
CALSCALE:GREGORIAN
BEGIN:VEVENT
UID:sabre-vobject-9da6fc43-4b69-488c-a32e-ff9d287d1535
DTSTAMP:20260421T102512Z
SUMMARY:Der Baumgarten im Seeburpark
DESCRIPTION:Martin Klauser ist ein profunder Kenner historischer Gärten un
 d hat sich im Auftrag der Stadt intensiv mit dem Baumgarten im Seeburgpark
  befasst. Auf dem Rundgang wird er den Besucher:innen die Geschichte der B
 äume und die weitere Entwicklung des Baumgartens erklären.
LOCATION:Seeburgpark\, Seeweg 5\, 8280 Kreuzlingen
DTSTART;TZID=Europe/Zurich:20260822T100000
DTEND;TZID=Europe/Zurich:20260822T113000
ORGANIZER:Bauverwaltung
END:VEVENT
END:VCALENDAR
