BEGIN:VCALENDAR
VERSION:2.0
PRODID:-//Sabre//Sabre VObject 4.5.8//EN
CALSCALE:GREGORIAN
BEGIN:VEVENT
UID:sabre-vobject-83a3997f-aeb8-4c12-bca7-59481fa89820
DTSTAMP:20260421T091318Z
SUMMARY:Wintertag "geschützt durch die kalte Jahreszeit"
DESCRIPTION:Der Informationstag bei A.Vogel in Roggwil richtet sich an Pers
 onen\, die sich für Naturheilkunde und ausgewogene Ernährung interessier
 en. Vorgestellt werden die Grundlagen der A.Vogel Philosophie sowie die Wi
 rkung und Bedeutung von Heilpflanzen. Bei einer Besichtigung der Heilpflan
 zenkulturen erhalten die Teilnehmenden Einblick in Anbau und Pflege der Pf
 lanzen.\nEs werden ausgewählte Heilpflanzen präsentiert\, die in der Sel
 bstmedikation eingesetzt werden können. Ein Fachvortrag zum Thema «Erkä
 ltungsfrei durch den Winter» vermittelt Hinweise\, wie die Gesundheit in 
 der kalten Jahreszeit unterstützt werden kann.\nEin Mittagessen im Gewäc
 hshaus ergänzt das Programm. Zudem werden Informationen zur Frischpflanze
 nproduktion von A.Vogel vermittelt. Im Rahmen des Anlasses besteht die Mö
 glichkeit\, ein eigenes Produkt herzustellen sowie an einer Degustation te
 ilzunehmen. Produkte können vor Ort erworben werden\; ein Gutschein im We
 rt von CHF 5.00 ist inbegriffen.
LOCATION:A.Vogel AG\, Grünaustrasse 4\, 9325 Roggwil TG
DTSTART;TZID=Europe/Zurich:20261024T093000
DTEND;TZID=Europe/Zurich:20261024T143000
ORGANIZER:A.Vogel AG
END:VEVENT
END:VCALENDAR
