BEGIN:VCALENDAR
VERSION:2.0
PRODID:-//Sabre//Sabre VObject 4.5.8//EN
CALSCALE:GREGORIAN
BEGIN:VEVENT
UID:sabre-vobject-7e52c769-e450-4306-ab9c-a7bcdd6feb8a
DTSTAMP:20260421T123632Z
SUMMARY:Licht aus - Natur an!
DESCRIPTION:Die Nacht ist mehr als nur Dunkelheit – sie ist Lebensraum f
 ür zahlreiche Tiere und Pflanzen. Doch leider wird dieser von künstliche
 m Licht bedroht. Mit den Fledermausprofis Marius und Franziska Heeb und Um
 weltingenieurin Lisa-Maria Graf tauchen die Teilnehmenden in die Nacht ein
  und erfahren\, warum Dunkelkorridore für Fledermäuse und andere nachtak
 tive Arten wichtig sind.\nEs wird aufgezeigt\, welche Auswirkung die Licht
 verschmutzung hat und mögliche Verbesserungsansätze werden aufgezeigt. A
 usfliegende Fledermäuse werden ein Highlight der Exkursion sein.\nAn- und
  Rückreise:\\n\\nAnreise:\\nab SG BHF 18:49 Uhr Gl. 3 S1 Richtung Schauff
 hausen\\nweiter Romanshorn\, Bahnhof 19:19 Uhr Kante B Bus B940 Richtung A
 mriswil\, Bahnhof\\nan Romanshorn\, Oberhüseren 19:27 Uhr\\n\\nRückreise
 :\\nEs werden Fahrgemeinschaften zum Bahnhof Romanshorn benötigt.\\nab Ro
 manshorn 21:14 Uhr Gl. 5 S1 Richtung Herisau\\nan SG BHF 21:41 Uhr
LOCATION:Bushaltestelle Romanshorn\, Oberhüseren\, 8590 Romanshorn
DTSTART;TZID=Europe/Zurich:20260425T194500
DTEND;TZID=Europe/Zurich:20260425T214500
ORGANIZER:WWF Regiobuero AP-SG-TG
END:VEVENT
END:VCALENDAR
