BEGIN:VCALENDAR
VERSION:2.0
PRODID:-//Sabre//Sabre VObject 4.5.8//EN
CALSCALE:GREGORIAN
BEGIN:VEVENT
UID:sabre-vobject-725baa0e-9002-4175-8929-81fb9fbc3b19
DTSTAMP:20260421T103955Z
SUMMARY:Mit dem Ranger unterwegs
DESCRIPTION:Eine Exkursion rund um den Nussbaumersee ermöglicht ein vertie
 ftes Kennenlernen der Natur im Seebachtal. Die Betrachtung der Landschafts
 entwicklung über Jahrtausende hinweg zeigt auf\, wie bereits die ersten S
 iedler diese Region massgeblich geprägt haben. Über die Jahrhunderte hin
 weg wandelte sich das Tal zu einem Ort\, der heute neben seiner Ruhe eine 
 grosse historische Bedeutung aufweist.\\n\\nDas Seebachtal gilt heute als 
 Naturschutzgebiet von nationaler Bedeutung und steht unter besonderem Schu
 tz. Die Gründe für diesen Status werden während des Rundgangs erläuter
 t. Dabei bietet sich die Gelegenheit\, die vielfältige Pflanzenwelt sowie
  die heimische Tierwelt in ihrem natürlichen Lebensraum zu beobachten. Di
 e Vielfalt erstreckt sich vom Waldboden bis hin zu den offenen Wasserfläc
 hen.\\n\\nDiese Tour bietet die Chance\, einen besonderen Teil des Thurgau
 s bewusst wahrzunehmen. Fachwissen über die Geologie und Biologie der Lan
 dschaft wird vermittelt\, um einen fundierten Einblick in diesen Naturraum
  zu erhalten.\nDas Angebot findet nur bei trockenem Wetter statt. Den Stan
 d über die Durchführung wird über die Website https://ranger-senn.ch/ k
 ommuniziert.
LOCATION:Parkplatz Nussbaumersee (Ostufer)\, 8537 Nussbaumen TG
DTSTART;TZID=Europe/Zurich:20260509T090000
DTEND;TZID=Europe/Zurich:20260509T110000
ORGANIZER:Ranger Senn GmbH
END:VEVENT
END:VCALENDAR
