BEGIN:VCALENDAR
VERSION:2.0
PRODID:-//Sabre//Sabre VObject 4.5.8//EN
CALSCALE:GREGORIAN
BEGIN:VEVENT
UID:sabre-vobject-835f3e33-5c3d-40ea-ba7a-f88753f3107a
DTSTAMP:20260421T091220Z
SUMMARY:Führung durch Ceres Garten
DESCRIPTION:Die Teilnehmenden erleben die Welt der Heilpflanzen mit Ceres-W
 ildsammler Raphael Stucki. Sie entdecken Heilpflanzen in ihrem natürliche
 n Umfeld und lerne ihre Bedeutung kennen. In einer Zeit\, in der eine acht
 same Beziehung zur Natur immer wichtiger wird\, gibt dies die Gelegenheit\
 , Heilpflanzen direkt in der Natur zu erleben und zu verstehen. Die Teilne
 hmenden erfahren zudem die Bedeutung der nachhaltigen Wildsammlung.\\n\\nS
 chwerpunkte\\n- Heilpflanzen in ihrem natürlichen Lebensraum kennenlernen
 \\n- Achtsame Beziehung zur Natur und respektvoller Umgang mit Pflanzen\\n
 - Nachhaltige Wildsammlung\nKeine botanischen Vorkenntnisse notwendig. Die
  Themenführung wird bei jedem Wetter durchgeführt.
LOCATION:Ceres Heilmittel AG\, Bachtobelstrasse 6\, 8593 Kesswil
DTSTART;TZID=Europe/Zurich:20260918T100000
DTEND;TZID=Europe/Zurich:20260918T113000
ORGANIZER:Ceres Heilmittel AG
END:VEVENT
END:VCALENDAR
