BEGIN:VCALENDAR
VERSION:2.0
PRODID:-//Sabre//Sabre VObject 4.5.8//EN
CALSCALE:GREGORIAN
BEGIN:VEVENT
UID:sabre-vobject-490df03c-21dd-4c82-a4c9-738a21726298
DTSTAMP:20260421T091224Z
SUMMARY:Kunsthandwerk im Museum
DESCRIPTION:
LOCATION:Museum Appenzell\, Hauptgasse 4\, 9050 Appenzell
DTSTART;TZID=Europe/Zurich:20260730T140000
DTEND;TZID=Europe/Zurich:20260730T170000
ORGANIZER:Museum Appenzell
END:VEVENT
END:VCALENDAR
