BEGIN:VCALENDAR
VERSION:2.0
PRODID:-//Sabre//Sabre VObject 4.5.8//EN
CALSCALE:GREGORIAN
BEGIN:VEVENT
UID:sabre-vobject-a521bd89-0579-4f4a-a6e6-c59db1ed3d39
DTSTAMP:20260421T123633Z
SUMMARY:Kunsthandwerk im Museum
DESCRIPTION:
LOCATION:Museum Appenzell\, Hauptgasse 4\, 9050 Appenzell
DTSTART;TZID=Europe/Zurich:20260924T140000
DTEND;TZID=Europe/Zurich:20260924T170000
ORGANIZER:Museum Appenzell
END:VEVENT
END:VCALENDAR
