BEGIN:VCALENDAR
VERSION:2.0
PRODID:-//Sabre//Sabre VObject 4.5.8//EN
CALSCALE:GREGORIAN
BEGIN:VEVENT
UID:sabre-vobject-47e647f7-b245-4acb-9919-c3d83b839799
DTSTAMP:20260421T105143Z
SUMMARY:Kunsthandwerk im Museum
DESCRIPTION:
LOCATION:Museum Appenzell\, Hauptgasse 4\, 9050 Appenzell
DTSTART;TZID=Europe/Zurich:20260917T140000
DTEND;TZID=Europe/Zurich:20260917T170000
ORGANIZER:Museum Appenzell
END:VEVENT
END:VCALENDAR
