BEGIN:VCALENDAR
VERSION:2.0
PRODID:-//Sabre//Sabre VObject 4.5.8//EN
CALSCALE:GREGORIAN
BEGIN:VEVENT
UID:sabre-vobject-1253c279-a79d-4359-b330-75b50a0a044e
DTSTAMP:20260421T122454Z
SUMMARY:Macardo - Führung inklusive Tasting
DESCRIPTION:Ein Rundgang\, der nach Genuss duftet: die Macardo Swiss Distil
 lery lädt gemeinsam mit Thurgau Tourismus zu einer geführten Tour ein. W
 ährend der rund 1\,5-stündigen Besichtigung zeigt sich das Zusammenspiel
  von Handwerk\, Innovation und Leidenschaft -von den Grundlagen der Destil
 lation bis zu den Geschichten\, die in jedem Fass und jeder Spirituose ste
 cken.\\n\\nDer Rundgang bietet Einblicke in die Herstellung und die Welt d
 es Genusses. Vor Ort besteht die Möglichkeit\, Fragen direkt zu klären. 
 Dank der begrenzten Teilnehmer:innenzahl von maximal 20 Personen bleibt di
 e Führung in einem persönlichen und erlebnisreichen Rahmen.
LOCATION:Macardo Swiss Distillery\, Frauenfelderstrasse 21\, 8514 Amlikon-B
 issegg
DTSTART;TZID=Europe/Zurich:20260516T140000
DTEND;TZID=Europe/Zurich:20260516T153000
ORGANIZER:Macardo Swiss Distillery GmbH
END:VEVENT
END:VCALENDAR
