BEGIN:VCALENDAR
VERSION:2.0
PRODID:-//Sabre//Sabre VObject 4.5.8//EN
CALSCALE:GREGORIAN
BEGIN:VEVENT
UID:sabre-vobject-b1aed3cb-600d-485d-8a4f-8b77db7161b9
DTSTAMP:20260421T104048Z
SUMMARY:Tag der offenen Türe
DESCRIPTION:Ein selbsterklärender Besucherrundgang führt durch die Kraftz
 entrale.\nFür Interessierte werden Führungen angeboten.\n 
LOCATION:Kraftzentrale Schönenberg\, Thurbruggstrasse 4\, 9215 Schönenber
 g
DTSTART;TZID=Europe/Zurich:20260516T100000
DTEND;TZID=Europe/Zurich:20260516T170000
ORGANIZER:Museum Kraftzentrale Seidenweberei Schönenberg
END:VEVENT
END:VCALENDAR
