BEGIN:VCALENDAR
VERSION:2.0
PRODID:-//Sabre//Sabre VObject 4.5.8//EN
CALSCALE:GREGORIAN
BEGIN:VEVENT
UID:sabre-vobject-039f1d29-fe96-475e-8179-a360db91d137
DTSTAMP:20260419T145504Z
SUMMARY:The Rolling Stones Story
DESCRIPTION:In Sachen Beliebtheit lagen sie Kopf an Kopf mit den Beatles\, 
 wobei die späten 60er und frühen 70er Jahre von vielen als ihr Goldenes 
 Zeitalter angesehen werden. \\n\\nIhre Live-Auftritte sind legendär und d
 as musikalische Erbe der Stones gehört zu den allerbesten. Sie haben eini
 ge der phänomenalsten Rock’n’Roll-Songs aller Zeiten aufgenommen – 
 «Satisfaction»\, «Jumpin’ Jack Flash»\, «Not Fade Away»\, «Honky 
 Tonk Woman»\, «Brown Sugar»\, «Start Me Up» … um nur einige zu nenn
 en. \\n\\nJetzt können Fans all diese klassischen Hits in The Rolling Sto
 nes Story wiedererleben\, einem energiegeladenen Konzert zur Feier der Mus
 ik der grössten Rock’n’Roll-Band der Welt. Komplett mit einer Produkt
 ion\, den Musikern und dem Mick Jagger Doppelgänger Paul Ashworth. \\n\\n
 «The Rolling Stones Story» verspricht einen unvergesslichen «Jumpin’ 
 Jack Flash» zurück in die Vergangenheit. «It’s only Rock’n’Roll 
 … but I like it!»
LOCATION:Pentorama Amriswil\, Arbonerstrasse 4\, 8580 Amriswil
DTSTART;TZID=Europe/Zurich:20271118T200000
DTEND;TZID=Europe/Zurich:20271118T200000
ORGANIZER:Ticketcorner
END:VEVENT
END:VCALENDAR
