BEGIN:VCALENDAR
VERSION:2.0
PRODID:-//Sabre//Sabre VObject 4.5.8//EN
CALSCALE:GREGORIAN
BEGIN:VEVENT
UID:sabre-vobject-02ee8e5c-f46c-4bf4-9c5f-b399301f2c3d
DTSTAMP:20260421T091220Z
SUMMARY:Beatles Tribute Show - The Silver Beatles
DESCRIPTION:Nicht nur irgendeine Coverband\, sondern eine der erfolgreichst
 en europäischen Beatles-Tribute Shows\, mit ausgesuchten (Sound-) Doubles
  aus bekannten Beatles-Musicals im hervorragenden Klang und Ausstattung. \
 \n\\nSie rockten bereits den legendären Liverpooler Cavern Club genauso w
 ie das weltbekannte Gewandhaus in Leipzig\, das berühmte Konzerthaus in W
 ien\, vielen Arenen und Hallen. Europaweite und erfolgreiche Tourneen mit 
 „She loves you“\, „Beatlemania“ und „Yesterday“ die sie nach 
 Österreich\, Ungarn\, Frankreich\, Spanien\, Belgien\, England\, Dänemar
 k\, Holland\, Belgien\, Italien und die Schweiz führten sind genauso ein 
 Teil ihrer umfangreichen Vita\, wie auch ein Schallplattenvertrag bei SONY
 \, viele TV-Auftritte im In- und Ausland\, Rundfunk -und Internetauftritte
 . \\n\\nDie neue Best of Show 1962–1970 präsentiert das Beste der Fab F
 our\, von „Love me do“ bis „Let it be“ und auch solche Lieder vom 
 roten und blauen Album die von ihnen nur im Studio gespielt und dann zu Ri
 esenhits wurden. \\n\\nDer Variantenreichtum der berühmten Lieder der Pil
 zköpfe aus Beat\, Pop\, Rock und Balladen sorgt für Abwechslung und Kurz
 weiligkeit\, der vielgelobte Chorgesang und die musikalische Detailtreue d
 urch die Verwendung originaler Instrumente der Beatles macht das Konzert z
 u einem Genuss. Durch das lockere Entertainment und unterhaltsame Elemente
 \, die das Publikum einbeziehen\, ist ein stimmungsvoller Konzertabend gar
 antiert.\\n\\n“…so authentische Stimmen und Vocal-Arrangements…..man
  meint die Beatles zu hören”… (Neue Westfälische Zeitung)\\n\\nMitwi
 rkende: \\nBeatles Tribute Show - The Silver Beatles
LOCATION:Pentorama Amriswil\, Arbonerstrasse 4\, 8580 Amriswil
DTSTART;TZID=Europe/Zurich:20261229T150000
DTEND;TZID=Europe/Zurich:20261229T150000
ORGANIZER:Ticketcorner
END:VEVENT
END:VCALENDAR
