BEGIN:VCALENDAR
VERSION:2.0
PRODID:-//Sabre//Sabre VObject 4.5.8//EN
CALSCALE:GREGORIAN
BEGIN:VEVENT
UID:sabre-vobject-2974b605-9796-43ae-890f-345b4cb965c9
DTSTAMP:20260421T105228Z
SUMMARY:The Original USA Gospel Singers & Band
DESCRIPTION:Über 25 Jahre Tourneeerfahrung und mehr als eine Million Besuc
 her:innen kann die Gospel-Gruppe bereits vorweisen. Und die Erfolgs-Story 
 geht weiter. Nicht nur in der ehrwürdigen Scala in Mailand erfreuten sie 
 das Publikum\, sondern auch den Papst beim Weihnachtskonzert im Vatikan.\n
 Die afroamerikanische Gospel-Gruppe mit Live-Band bringt das ursprünglich
 e Gefühl der schwarzen Gospel-Kultur authentisch nahe und erzählt deren 
 Geschichte. Von der Entstehung bis zur heutigen Zeit\, von Mahalia Jackson
  bis James Cleveland. Das Ensemble umfasst ausgewählte Spitzensänger\, h
 ervorragende Solisten und Musiker\, die in einem zweistündigen Programm a
 ll das bieten\, was Gospel so schön macht: Emotionalität\, Religiosität
  und pure Lebensfreude.\nDas Ziel jeder Vorstellung der Original USA Gospe
 l Singers ist es\, Menschen durch die immense\, spirituelle Kraft der einz
 elnen Songs einander näher zu bringen. Wichtiger Bestandteil jeder Show i
 st die aktive Teilnahme des Publikums. Hand in Hand erleben die Zuschauer:
 innen die Kraft der echten Gospel-Musik. Die Emotionen\, die dabei geweckt
  werden\, machen den Abend zu einem unvergesslichen Erlebnis. \\n\\nWas ze
 ichnet Gospel aus?\\nEin typisches Merkmal des Gospel-Gesangs ist die Anti
 phonie\, der Wechselgesang zwischen Vorsänger:innen und Chor\, auch "Call
  and Response" (Ruf und Antwort) genannt. Ein weiteres afrikanisch gepräg
 tes Element der Gospel Musik ist die Besonderheit der afrikanischen Tonali
 tät. In ihr herrscht die Pentatonik\, also die Verwendung einer Tonleiter
  vor\, die im Gegensatz zum Siebentonsystem der europäischen Musik ledigl
 ich fünf Töne verwendet.\nErst später entstand dann auch in der afroame
 rikanischen Musik die Heptatonik\, in dem die Terz und die Septime\, die s
 ogenannten " Blue Notes" ergänzt wurden. Diese Intervalle sind es auch di
 e die afrikanische undafroamerikanische Musik nach wie vor von der europä
 ischen Dur Moll Modalität unterscheidet. Ein letztes besonderes Merkmal\,
  das auf die afrikanischen Wurzeln des Nigro Spirital zurückgeführt werd
 en kann\, ist das "Timbre"\, die besondere Klangfarbe der Stimme im afrika
 nischen Gesang.\nDie Sänger:innen entwickeln bei ihrem Gesang eine Fülle
  an Differenzierungsmöglichkeiten einzelner Töne. Hierbei geht es vor al
 lem darum\, der jeweils persönlichen Stimmung Ausdruck zu verleihen. So e
 ntstehen Töne\, die einerseits bis hin zu einem unreinen Schreien rau und
  heißer klingen\, andererseits aber auch durchaus angenehm weich und zart
  auf die Ohren wirken.
LOCATION:Pentorama Amriswil\, Arbonerstrasse 4\, 8580 Amriswil
DTSTART;TZID=Europe/Zurich:20261127T200000
DTEND;TZID=Europe/Zurich:20261127T222000
ORGANIZER:Nice Time Productions
END:VEVENT
END:VCALENDAR
