BEGIN:VCALENDAR
VERSION:2.0
PRODID:-//Sabre//Sabre VObject 4.5.8//EN
CALSCALE:GREGORIAN
BEGIN:VEVENT
UID:sabre-vobject-fee09dff-def9-4c80-a844-233b43eae25b
DTSTAMP:20260421T122453Z
SUMMARY:Comedy-Duo Messer&Gabel - WandStand
DESCRIPTION:In ihrem neuesten abendfüllenden Programm „WandStand“ stel
 len das beliebte Comedy-Duo Messer &a Gabel\, die Schwerkraft auf den Kopf
 . Erleben Sie\, wie die beiden mit einem bunten Mix aus Situationskomik\, 
 Mimik und cleveren Wortspielen das Publikum zum Lachen bringen – ganz au
 s einer neuen Perspektive! \\n\n\\n\n„WandStand“ lädt Sie ein\, den A
 lltag hinter sich zu lassen und sich in eine Welt voller Witz und Humor zu
  begeben. Die beiden Komiker jonglieren mit skurrilen Alltagsmomenten und 
 lassen dabei kein Auge trocken. Seien Sie bereit für ein wandwitziges Pro
 gramm\, das Sie nicht nur zum Lachen bringt\, sondern auch zum Nachdenken 
 anregt. \\n\n\\n\nFreuen Sie sich auf einen unvergesslichen Abend voller E
 motionen\, Lachen und vielleicht ein paar unerwarteten Überraschungen. Ko
 mmen Sie vorbei und erleben Sie Köbi und Jock von einer neuen Seite – K
 opf über\, aber garantiert mit beiden Beinen fest im Leben!
LOCATION:Pentorama Amriswil\, Arbonerstrasse 4\, 8580 Amriswil
DTSTART;TZID=Europe/Zurich:20261107T200000
DTEND;TZID=Europe/Zurich:20261107T221500
ORGANIZER:rhc gmbh
END:VEVENT
END:VCALENDAR
