BEGIN:VCALENDAR
VERSION:2.0
PRODID:-//Sabre//Sabre VObject 4.5.8//EN
CALSCALE:GREGORIAN
BEGIN:VEVENT
UID:sabre-vobject-a267981b-fd31-4525-b0ff-f9d97f393fac
DTSTAMP:20260419T145403Z
SUMMARY:Olaf Schubert & seine Freunde
DESCRIPTION:Dass ein Gedankengigant wie Olaf Schubert auf alle Fragen eine 
 Antwort weiss\, gilt als Schulwissen. Doch nun macht Schubert den nächste
 n grossen Schritt. Er stellt Fragen. Wichtige Fragen\, wie eben jene - «J
 etzt oder now?». Also eine Frage\, die selbst Fragen stellt. Dass sich hi
 erbei der Schwanz ins Gesicht beisst\, ist des Künstlers ureigenstes Anli
 egen.\nWie nebenbei schuf er mit dieser Frage einen Programmtitel mit inte
 rnationalem Sound. Daran erkennen wir\, Schubert ist mittlerweile multilin
 gual - wenn nicht gar zweisprachig. Ganz oben angekommen auf der Spitze de
 s Eisbergs der Globalisierung\, steht ihm nun alles offen. Trotz des gigan
 tischen Erfolgs bleibt Olaf bodenständig.\nAuf der Bühne erfindet sich S
 chubert abermals völlig neu und genau deshalb bleibt er ganz der Alte. Dr
 um sagen fast alle (selbst seine Oma)\, die ihn jemals live erleben durfte
 n\, einfach tiefst ergriffen: Danke\, Olaf!
LOCATION:Pentorama Amriswil\, Arbonerstrasse 4\, 8580 Amriswil
DTSTART;TZID=Europe/Zurich:20260927T190000
DTEND;TZID=Europe/Zurich:20260927T212000
ORGANIZER:domino Event SARL
END:VEVENT
END:VCALENDAR
