BEGIN:VCALENDAR
VERSION:2.0
PRODID:-//Sabre//Sabre VObject 4.5.8//EN
CALSCALE:GREGORIAN
BEGIN:VEVENT
UID:sabre-vobject-c4e818f0-9e79-46db-a9e0-8a6e1fcacee9
DTSTAMP:20260421T120148Z
SUMMARY:Die Udo Jürgens Tribute-Show
DESCRIPTION:Peter C. Frank bringt mit der Udo Jürgens Live-Show ein einzig
 artiges Erlebnis auf die Bühne\, das emotionaler\, näher und ehrlicher k
 aum sein könnte. Mit seiner unverwechselbaren Stimme\, die unter die Haut
  geht und begleitet von seiner hochkarätigen Liveband\, interpretiert Pet
 er C. Frank am legendären gläsernen Flügel die bekannten Hits und verbo
 rgenen Liedschätze des großen Entertainers – live\, mit Tiefgang\, Gla
 mour und dem unverwechselbaren Sound\, den Generationen lieben.\\n\\nEine 
 Ikone – klanglich wie visuell – und eigens für Udo Jürgens gebaut un
 d nun einzigartig auf Tour. Mit seinem legendären gläsernen Flügel lass
 en wir Udo für immer leben – eine Show mit Kultcharakter.\\n\\nExklusiv
 e\, teils unveröffentlichte Bilderwelten von Udos langjährigem Fotografe
 n begleiten die Show visuell auf großer Leinwand. Für den dramaturgische
 n Feinschliff sorgt kein Geringerer als Wolfgang Hofer: Udos Erfolgs-Textd
 ichter mit über 100 Liedern – „Mit 66 Jahren“\, „Liebe ohne Leide
 n“\, „Buenos Dias Argentina“\, „Alles im Griff“ u. v. m.\\n\\nId
 ee\, Konzeption &amp\; Dramaturgie: Wolfgang Hofer\, Peter C. Frank\, Loui
 s Lindenborn\\n\\nPeter C. Frank:\\nSeit 2015 hat sich Peter ganz der Musi
 k von Udo Jürgens verschrieben. Als Solist am Klavier\, mit Liveband und 
 mit Orchester hat er sich in verschiedenen Udo Jürgens-Projekten als Udo 
 Jürgens-Interpret einen Namen gemacht. Der studierte Sänger und Musiker 
 arbeitete seit Ende der 1980er Jahre als Gesangssolist an verschiedenen de
 utschen Theatern im Bereich\, Oper\, Operette und Musical (u. a. in Oldenb
 urg\, Brandenburg\, Hannover\, Hildesheim). Als Songwriter veröffentlicht
 e er 2015 eine eigene CD („Neues Leben“) und komponierte eigene Musica
 ls wie „Der Graf am Gleichen“ (2006) oder „Jesus ganz nah dran“ (2
 013).\nIn enger freundschaftlicher Zusammenarbeit mit dem Udo-Jürgens-Tex
 ter Wolfgang Hofer entstand zuletzt das Musical „Die Schildbürger – D
 as Narrenmusical“ (2024) sowie weitere neue deutschsprachige Lieder. Pet
 er und seine Band sind eng verbunden. Sie musizieren schon seit Studentenz
 eiten zusammen und haben sich jetzt der Musik von Udo Jürgens angenommen.
 \n„Udo Jürgens’ zeitlose Musik liegt mir am Herzen! Um sein unvergän
 gliches Erbe zu bewahren\, präsentiere ich sie live und originalgetreu 
 – sei es in intimen Solokonzerten am Klavier\, in mitreißenden Auftritt
 en mit Band oder in großen Shows mit Sinfonieorchester. Darüber hinaus s
 chreibe ich eigene Songs und Musicals\, in die ich meine persönliche Hand
 schrift einbringe. Dabei ist es mir immer ein tiefes Anliegen\, Menschen m
 it meiner Musik zu berühren und Melodien des Lebens in die Welt zu tragen
 !“ (Peter C. Frank)\\n\\nDie Band:\\nSie spielten und arbeiteten u. a. m
 it Roger Cicero\, Bill Ramsey\, Anna Depenbusch\, Chris Andrews\, Chris Ho
 wland\, Roberto Blanco\, Ireen Sheer\, Graham Bonney\, Gunter Gabriel\, Ed
 win Hawkins\, Amelia Brightman\, Katie Freudenschuß\, Thilo Wolf und Eric
  Marienthal. Sie waren Teil von Musical- und Showproduktionen wie West Sid
 e Story\, Musical Rocks und Fack ju Göhte. Als Studiomusiker nahmen sie m
 it Produzenten wie Franz Plasa und Peter Hoffmann (TokioHotel) auf und wir
 kten an zahlreichen CD- und TV-Produktionen mit.\\n\\nDie Udo Jürgens Liv
 e-Show sind sind:\\nPeter C. Frank – Gesang &amp\; Glasflügel\\nThomas 
 Zander – Saxophon &amp\; Flöte\\nGary Winters – Trompete\\nChristian 
 Gauger – Gitarre\\nSebastian Brand – Bass &amp\; Vocals\\nSebastian Fr
 ank – Schlagzeug &amp\; Vocals\\n\\nSebastian Frank: Drums/Vocals\\nAls 
 Schlagzeuger und Cellist Theatermusiker an der Landesbühne Hannover. Musi
 kalischer Leiter der Gala-Band „Glamorous Glitter Band“ mit Künstlerb
 egleitungen\, u.a. von Roberto Blanco\, Ireen Sheer\, Graham Bonney\, Gunt
 er Gabriel\, Botho Lucas-Chor. Inhaber des Tonstudios „Nightfly Recordin
 g“ mit Aufnahmen von Künstlern wie Eric Marienthal\, Torsten Goods\, Th
 ilo Wolf\, Thomas Zander\, Dirk Lentschat (Roger Cicero-Bigband)\, Ulrich 
 Rode (BAP)\, Susan Albers (DSDS)\, Lars Lehmann\, Lutz Krajenski.\\n\\nSeb
 astian Brand: Bass/Vocals\\nKünstlerbegleitung/Tournee-\, Theater-\, Stud
 ioarbeit (Auswahl) für: Chris Andrews\, Chris Howland\, Roger Cicero (in 
 early Clubdays in Hamburg)\, Ken Norris\, Regy Clasen\, Natalia Yegorowa (
 ehem. Klitschko)\, Konrad Wissmann\, Felix Meyer\, Jennifer Kaye\, Amelia 
 Brightman\, Edwin Hawkins (Gospel\, USA). Katie Freudenschuß (jetzt erfol
 greiche Solo-Kabarettistin mit unzähligen TV-Auftritten) und Anna Depenbu
 sch - noch am Vorabend ihrer großen Karriere.\n\\nStudioarbeit u.a. mit d
 en Produzenten Franz Plasa\, Peter Hoffmann (Tokio Hotel) und für das Nig
 htfly Recording Studio. Theatertätigkeit (Musicals\, Musiktheater) für d
 as Schleswig- Holsteinische Landestheater.\\n\\nThomas Zander: Saxophon/Fl
 öte\\nSeit Jahren ständiger Gastmusiker für Saxophon\, Klarinette und Q
 uerflöte\, z.B. am Theater für Niedersachsen und an der Oper in Hannover
  bei der WEST SIDE STORY. In der Bigband von ROGER CICERO spielte er von B
 eginn an als Bariton-Saxophonist und spielte Tenor im Quartett von BILL RA
 MSEY.\\nDaneben arrangiert und komponiert er Kammer- und Orchestermusik\,z
 uletzt ein Quartett für 4 Bassklarinetten\, UA 10/2013 und ein Quintett f
 ür Bassklarinette und Streichquartett\, UA 02/2016.\\n\\nVeranstaltungsda
 uer:\\n120 Minuten und 20 Minuten Pause
LOCATION:Pentorama Amriswil\, Arbonerstrasse 4\, 8580 Amriswil
DTSTART;TZID=Europe/Zurich:20260918T150000
DTEND;TZID=Europe/Zurich:20260918T150000
ORGANIZER:Ticketcorner
END:VEVENT
END:VCALENDAR
