BEGIN:VCALENDAR
VERSION:2.0
PRODID:-//Sabre//Sabre VObject 4.5.8//EN
CALSCALE:GREGORIAN
BEGIN:VEVENT
UID:sabre-vobject-d578c61e-b6f6-4810-9578-1d53b2400b55
DTSTAMP:20260421T103952Z
SUMMARY:Heimweh - Vo de Bärge Tour
DESCRIPTION:Der erfolgreichste Männerchor der Schweiz bringt mit der neuen
  Tournee «Vo de Bärge» die Kraft und Schönheit der Berge direkt zum Pu
 blikum. Die Lieder von Heimweh klingen nach Heimat\, Freiheit und Natur 
 – wie ein musikalischer Windstoss aus den Alpen\, der mitten ins Herz tr
 ifft. Die schönsten Schweizer Männerstimmen sorgen mit neuen Liedern und
  vertrauten Klassikern für emotionale Konzertmomente voller Wärme\, Tief
 e und Echtheit. 
LOCATION:Pentorama Amriswil\, Arbonerstrasse 4\, 8580 Amriswil
DTSTART;TZID=Europe/Zurich:20260510T190000
DTEND;TZID=Europe/Zurich:20260510T211000
ORGANIZER:domino Event SARL
END:VEVENT
END:VCALENDAR
