BEGIN:VCALENDAR
VERSION:2.0
PRODID:-//Sabre//Sabre VObject 4.5.8//EN
CALSCALE:GREGORIAN
BEGIN:VEVENT
UID:sabre-vobject-14239501-63ce-4ee2-95cb-aa4241d4f431
DTSTAMP:20260424T194801Z
SUMMARY:Volume 5 – Die Rückkehr!
DESCRIPTION:Tiefsinnig\, absurd und ungestüm arbeitet sich Lara Stoll an d
 er Schweiz – und wie man sich in ihr zu bewegen hat – ab. Wie werden w
 ir älter? Wie schlägt sich Lara Stoll im Strassenverkehr? Und was haben 
 Salatbuffets mit all dem zu tun?\\n\nUpgejazzt wird ausserdem mit Hupen\, 
 Posaune und Saxofon. Das Publikum darf sich auf einen kunterbunten Abend g
 efasst machen.\\n\n\\n\nDauer: ca. 70 Minuten\, keine PauseTüröffnung un
 d Barbetrieb: 19.00 Uhr
LOCATION:Phönix Theater\, Im Feldbach 8\, 8266 Steckborn
DTSTART;TZID=Europe/Zurich:20260508T193000
DTEND;TZID=Europe/Zurich:20260508T204000
ORGANIZER:Phönix Theater
END:VEVENT
END:VCALENDAR
