BEGIN:VCALENDAR
VERSION:2.0
PRODID:-//Sabre//Sabre VObject 4.5.8//EN
CALSCALE:GREGORIAN
BEGIN:VEVENT
UID:sabre-vobject-73a76a7f-d4f9-4900-a996-4a51d7a4f136
DTSTAMP:20260421T123539Z
SUMMARY:Wochenend–Intensivkurs "Drehen an der Töpferscheibe" Frühling /
  Sommer
DESCRIPTION:Der dreitägige Kurs bietet intensives Lernen und volle Konzent
 ration auf das Drehen. Im Mittelpunkt stehen das praktische Arbeiten und d
 as Kennenlernen neuer Techniken. Schritt für Schritt werden die Abläufe 
 des Zentrierens\, Drehens und Abdrehens vermittelt. Mit fachlicher Begleit
 ung entstehen Schalen\, Becher\, Zylinder\, Vasen oder Teller – auf Wuns
 ch auch mit Fokus auf eine bestimmte Form.\nDer Kurs findet in der Töpfer
 ei der Kartause Ittingen in einer historischen Klause statt\, umgeben von 
 Gebäuden\, Gärten und Natur. Er richtet sich an Einsteigende wie an Fort
 geschrittene und dauert jeweils von 09.30 bis 17.00 Uhr.\\n\\nVoraussetzun
 g: Geeignet für Anfängerinnen und Fortgeschrittene\\nOrt: Töpferei-Klau
 se\, Kartause Ittingen\\nKursleitung: Jolanda Sigg und/oder Barbara Lienha
 rd\, die Keramikerinnen\\n\\nWeitere Stücke können gegen Aufpreis glasie
 rt und gebrannt werden oder an einem Glasurtag in der Töpferei veredelt w
 erden. Wer über eine eigene Brennmöglichkeit verfügt\, kann die geferti
 gten Arbeiten auch mit nach Hause nehmen.
LOCATION:Ittinger Museum\, 8532 Warth
DTSTART;TZID=Europe/Zurich:20260718T093000
DTEND;TZID=Europe/Zurich:20260718T170000
ORGANIZER:Kartause Ittingen
END:VEVENT
END:VCALENDAR
