BEGIN:VCALENDAR
VERSION:2.0
PRODID:-//Sabre//Sabre VObject 4.5.8//EN
CALSCALE:GREGORIAN
BEGIN:VEVENT
UID:sabre-vobject-9a2101b4-8931-438d-be1d-38fa86e9e933
DTSTAMP:20260421T103035Z
SUMMARY:A bout de souffle
DESCRIPTION:Von Jean-Luc Godard mit Jean-Paul Belmondo\, Jean Seberg\, Dani
 el Boulanger\, Jean-Pierre Melville | Frankreich 1960 | Originalversion mi
 t d-Untertiteln | ab 16 Jahren | 91 Minuten\nMichel\, ein Kleinkrimineller
 \, erschiesst auf der Flucht einen Polizisten und taucht in Paris bei der 
 Amerikanerin Patricia unter. Während er sie drängt\, mit ihm nach Rom zu
  fliehen\, verschärft sich die Fahndung. Patricia\, von der Polizei unter
  Druck gesetzt\, verrät ihn schliesslich. Beim Versuch\, eine Pistole zu 
 greifen\, wird Michel angeschossen und stirbt vor ihren Augen.
LOCATION:Kino Roxy\, Salmsacherstrasse 1\, 8590 Romanshorn
DTSTART;TZID=Europe/Zurich:20260426T110000
DTEND;TZID=Europe/Zurich:20260426T130000
ORGANIZER:Roxy
END:VEVENT
END:VCALENDAR
