BEGIN:VCALENDAR
VERSION:2.0
PRODID:-//Sabre//Sabre VObject 4.5.8//EN
CALSCALE:GREGORIAN
BEGIN:VEVENT
UID:sabre-vobject-131808cf-3836-43a9-a507-2260810471fa
DTSTAMP:20260421T121348Z
SUMMARY:Kafi & Krümel
DESCRIPTION:Es besteht der Wunsch nach einem Ort\, an dem Freund:innen und 
 Familien die Atmosphäre eines Cafés nutzen können\, während Kinder spi
 elen. Daraus entsteht die Kafi &amp\; Krümelzeit.\nEinmal im Monat wird d
 as Kulturhaus Apollo für einige Stunden in ein Familiencafé umgewandelt.
  Angeboten werden Kaffee sowie ein kleines zweites Frühstück.\nNächste 
 Termine:\\n25.04.26 Blüten und Harz in kleine Schmuckstücke verwandeln i
 n der Werkstatt mit Corinna Baumgärtner\\n30.05.26 Traumhafte Bühnenbild
 er im Kleinformat gestalten mit Anna Appodoo\\n27.06.27 Vollmondüche im A
 pollo Garten mit frischen Kräutern und Stangenbrot am Feuer mit Anna und 
 Corinna
LOCATION:Apollo Kulturhaus Kreuzlingen\, Konstanzerstrasse 32\, 8280 Kreuzl
 ingen
DTSTART;TZID=Europe/Zurich:20260425T100000
DTEND;TZID=Europe/Zurich:20260425T130000
ORGANIZER:Apollo Kulturhaus
END:VEVENT
END:VCALENDAR
