BEGIN:VCALENDAR
VERSION:2.0
PRODID:-//Sabre//Sabre VObject 4.5.8//EN
CALSCALE:GREGORIAN
BEGIN:VEVENT
UID:sabre-vobject-925952c9-1111-4603-aa05-1be13a6cd21e
DTSTAMP:20260419T145508Z
SUMMARY:Hanna & Harald
DESCRIPTION:Hanna Scheuring und Harald Schmidt laden ein zum gehobenen Tisc
 hgespräch: über Harald\, Hanna und die Welt\, von Pontius zu Pilates\, v
 on täglichen Sensationen\, über Schlafverhalten bis zu Gurken zum Frühs
 tück …\\n\n\\n\nEin unvorbereiteter Abend zum aktuellen Weltgeschehen u
 nd zu den kleinen Gewohnheiten auf dem Luxusdampfer unseres Lebens.
LOCATION:Würth Haus Rorschach\, Churerstrasse 10\, 9400 Rorschach
DTSTART;TZID=Europe/Zurich:20261017T200000
DTEND;TZID=Europe/Zurich:20261017T213000
ORGANIZER:Würth Haus Rorschach
END:VEVENT
END:VCALENDAR
